BEGIN:VCALENDAR
VERSION:2.0
CALSCALE:GREGORIAN
PRODID:adamgibbons/ics
METHOD:PUBLISH
X-PUBLISHED-TTL:PT1H
BEGIN:VEVENT
UID:980@burque.fun
SUMMARY:Live Music: chei.tea / Bethany's Garden
DTSTAMP:20260424T223404Z
DTSTART:20260502T193000Z
DESCRIPTION:quannumthrows on Instagram: "Two weeks from Saturday Quannumthr
	ows Presents\n@cheiannee @girlwiththefern Live @guildcinema Saturday May 2
	nd 1:30 pm $10"\n\nhttps://www.instagram.com/p/DXLV0LPj_Tw/\n[https://www.
	instagram.com/p/DXLV0LPj_Tw/]
URL:https://burque.fun/event/live-music-cheitea-bethanys-garden
LOCATION:Guild Cinema - 3405 Central Ave NE\, Albuquerque\, NM 87106
STATUS:CONFIRMED
CATEGORIES:live music
X-ALT-DESC;FMTTYPE=text/html:<p>quannumthrows on Instagram: "Two weeks from
	 Saturday   Quannumthrows Presents  @cheiannee   @girlwiththefern   Live @
	guildcinema   Saturday May 2nd  1:30 pm $10"</p><p><a href="https://www.in
	stagram.com/p/DXLV0LPj_Tw/" target="_blank">https://www.instagram.com/p/DX
	LV0LPj_Tw/</a></p>
BEGIN:VALARM
ACTION:DISPLAY
DESCRIPTION:Live Music: chei.tea / Bethany's Garden
TRIGGER:-PT1H
END:VALARM
END:VEVENT
END:VCALENDAR
