BEGIN:VCALENDAR
VERSION:2.0
CALSCALE:GREGORIAN
PRODID:adamgibbons/ics
METHOD:PUBLISH
X-PUBLISHED-TTL:PT1H
BEGIN:VEVENT
UID:979@burque.fun
SUMMARY:Pow-Wow Pop-up
DTSTAMP:20260423T213243Z
DTSTART:20260425T140000Z
DTEND:20260425T210000Z
DESCRIPTION:SABA on Instagram: "This weekend! #PowwowPopUp #albuquerque #ga
	theringofnations\n#arrowsoultradingpost #maizemob @swopista @arrowsoul_llc
	 @nashaw.02\n@victorzcorpuz"\n\nhttps://www.instagram.com/p/DXZmq-TFEQ0/\n
	[https://www.instagram.com/p/DXZmq-TFEQ0/]\n\nhttps://www.maizeforever.com
	/ [https://www.maizeforever.com/]
URL:https://burque.fun/event/pow-wow-pop-up
LOCATION:Arrow Soul Trading Post - 1002 Park Ave SW
STATUS:CONFIRMED
CATEGORIES:art,gatheringofnations,indigenous,maize,native,ndn,pop-up,powwow
	,swop
X-ALT-DESC;FMTTYPE=text/html:<p>SABA on Instagram: "This weekend! #PowwowPo
	pUp #albuquerque #gatheringofnations #arrowsoultradingpost #maizemob @swop
	ista @arrowsoul_llc @nashaw.02 @victorzcorpuz"</p><p><a href="https://www.
	instagram.com/p/DXZmq-TFEQ0/" target="_blank">https://www.instagram.com/p/
	DXZmq-TFEQ0/</a><br><br><a href="https://www.maizeforever.com/" target="_b
	lank">https://www.maizeforever.com/</a></p>
BEGIN:VALARM
ACTION:DISPLAY
DESCRIPTION:Pow-Wow Pop-up
TRIGGER:-PT1H
END:VALARM
END:VEVENT
END:VCALENDAR
