BEGIN:VCALENDAR
VERSION:2.0
CALSCALE:GREGORIAN
PRODID:adamgibbons/ics
METHOD:PUBLISH
X-PUBLISHED-TTL:PT1H
BEGIN:VEVENT
UID:976@burque.fun
SUMMARY:Strong Towns Newcomer Orientation
DTSTAMP:20260421T210759Z
DTSTART:20260423T000000Z
DTEND:20260423T020000Z
DESCRIPTION:Strong Towns ABQ on Instagram: "Curious about Strong Towns ABQ?
	 New here? Just\nlooking for a way to get involved in building a stronger 
	Albuquerque? ✨ Join us\nfor our Newcomer Orientation ✨ This is a low-press
	ure\, welcoming space to learn\nwhat Strong Towns ABQ is all about\; our h
	istory\, goals\, and how we show up for\nhousing\, transportation\, and fi
	scally responsible growth in our city. 🗣️ Ask\nquestions 🤝 Meet others 🧭 Fi
	nd your role! Whether that’s joining a campaign\,\nhelping with outreach\,
	 or just learning more 📅 Wednesday\, April 22nd ⏰\n6:00–8:00 PM 📍 Homewise
	 Center Conference Room 500 2nd St SW\, Albuquerque"\n\nhttps://www.instag
	ram.com/p/DXXO8HYkfYc/\n[https://www.instagram.com/p/DXXO8HYkfYc/]
URL:https://burque.fun/event/strong-towns-newcomer-orientation
LOCATION:Orpheum/Homewise Offices - 500 2nd St SW\, Albuquerque NM
STATUS:CONFIRMED
CATEGORIES:bikes,housing,strong towns,sustainability,urbanism,zoning
X-ALT-DESC;FMTTYPE=text/html:<p>Strong Towns ABQ on Instagram: "Curious abo
	ut Strong Towns ABQ? New here? Just looking for a way to get involved in b
	uilding a stronger Albuquerque?  ✨ Join us for our Newcomer Orientation ✨ 
	 This is a low-pressure, welcoming space to learn what Strong Towns ABQ is
	 all about; our history, goals, and how we show up for housing, transporta
	tion, and fiscally responsible growth in our city.  🗣️ Ask questions 🤝 Meet
	 others 🧭 Find your role! Whether that’s joining a campaign, helping with 
	outreach, or just learning more  📅 Wednesday, April 22nd ⏰ 6:00–8:00 PM 📍 
	Homewise Center Conference Room 500 2nd St SW, Albuquerque"</p><p><a href=
	"https://www.instagram.com/p/DXXO8HYkfYc/" target="_blank">https://www.ins
	tagram.com/p/DXXO8HYkfYc/</a></p>
BEGIN:VALARM
ACTION:DISPLAY
DESCRIPTION:Strong Towns Newcomer Orientation
TRIGGER:-PT1H
END:VALARM
END:VEVENT
END:VCALENDAR
