BEGIN:VCALENDAR
VERSION:2.0
CALSCALE:GREGORIAN
PRODID:adamgibbons/ics
METHOD:PUBLISH
X-PUBLISHED-TTL:PT1H
BEGIN:VEVENT
UID:975@burque.fun
SUMMARY:Trail Day Mixer
DTSTAMP:20260421T224510Z
DTSTART:20260426T000000Z
DTEND:20260426T020000Z
URL:https://burque.fun/event/trail-day-mixer
LOCATION:Rail Yards - 777 1st St SW
STATUS:CONFIRMED
CATEGORIES:bikes,biketooter,coffee,community,oneabq,rail trail,trails
END:VEVENT
END:VCALENDAR
